BEGIN:VCALENDAR
VERSION:2.0
PRODID:-//pretalx//papers.synesthesia.it//swiftheroes-2024//LJWKMQ
BEGIN:VTIMEZONE
TZID:CET
BEGIN:STANDARD
DTSTART:20001029T040000
RRULE:FREQ=YEARLY;BYDAY=-1SU;BYMONTH=10
TZNAME:CET
TZOFFSETFROM:+0200
TZOFFSETTO:+0100
END:STANDARD
BEGIN:DAYLIGHT
DTSTART:20000326T030000
RRULE:FREQ=YEARLY;BYDAY=-1SU;BYMONTH=3
TZNAME:CEST
TZOFFSETFROM:+0100
TZOFFSETTO:+0200
END:DAYLIGHT
END:VTIMEZONE
BEGIN:VEVENT
UID:pretalx-swiftheroes-2024-7GEEMT@papers.synesthesia.it
DTSTART;TZID=CET:20240419T113000
DTEND;TZID=CET:20240419T121000
DESCRIPTION:An App Icon is the initial point of contact between users and a
 pplications\, and it contributes significantly to first impressions. It ha
 s to be a distinctive and memorable graphical representation that serves a
 s the visual identity for an app or a game.\n\nIn this session will be cov
 ered both technicalities about the design\, export and correct displaying 
 and loading of your App Icon based on the Apple platform you are developin
 g for. \nAlso\, the creative process takes a crucial role in elevating you
 r App Icon aesthetics and functionality: learn key aspects to take in cons
 ideration when you design it.\n\nA well-designed app icon goes beyond mere
  aesthetics\; it aids users in quickly locating and identifying the app wh
 ile also playing a crucial role in the competitive app marketplace\, where
  standing out is key.
DTSTAMP:20240417T102941Z
LOCATION:Sala 150
SUMMARY:Crafting better App Icons - Flora Damiano
URL:https://papers.synesthesia.it/swiftheroes-2024/talk/7GEEMT/
END:VEVENT
END:VCALENDAR
